BEGIN:VCALENDAR
VERSION:2.0
PRODID:-//PEARL PV - ECPv6.15.20//NONSGML v1.0//EN
CALSCALE:GREGORIAN
METHOD:PUBLISH
X-ORIGINAL-URL:https://www.pearlpv-cost.eu
X-WR-CALDESC:Events for PEARL PV
REFRESH-INTERVAL;VALUE=DURATION:PT1H
X-Robots-Tag:noindex
X-PUBLISHED-TTL:PT1H
BEGIN:VTIMEZONE
TZID:Europe/Amsterdam
BEGIN:DAYLIGHT
TZOFFSETFROM:+0100
TZOFFSETTO:+0200
TZNAME:CEST
DTSTART:20200329T010000
END:DAYLIGHT
BEGIN:STANDARD
TZOFFSETFROM:+0200
TZOFFSETTO:+0100
TZNAME:CET
DTSTART:20201025T010000
END:STANDARD
BEGIN:DAYLIGHT
TZOFFSETFROM:+0100
TZOFFSETTO:+0200
TZNAME:CEST
DTSTART:20210328T010000
END:DAYLIGHT
BEGIN:STANDARD
TZOFFSETFROM:+0200
TZOFFSETTO:+0100
TZNAME:CET
DTSTART:20211031T010000
END:STANDARD
BEGIN:DAYLIGHT
TZOFFSETFROM:+0100
TZOFFSETTO:+0200
TZNAME:CEST
DTSTART:20220327T010000
END:DAYLIGHT
BEGIN:STANDARD
TZOFFSETFROM:+0200
TZOFFSETTO:+0100
TZNAME:CET
DTSTART:20221030T010000
END:STANDARD
END:VTIMEZONE
BEGIN:VEVENT
DTSTART;TZID=Europe/Amsterdam:20210202T100000
DTEND;TZID=Europe/Amsterdam:20210202T143000
DTSTAMP:20260425T155605
CREATED:20210115T135224Z
LAST-MODIFIED:20210217T145805Z
UID:1486-1612260000-1612276200@www.pearlpv-cost.eu
SUMMARY:Online Workshop WG2: New approaches for identifying and analysing failures in PV
DESCRIPTION:This is the event page for the fourth online PEARL PV workshop in a series of 6\, which brings together researchers to discuss the next challenges in photovoltaic energy performance and reliability. The workshop complies with the meeting guidelines in the covid-19 situation. \nThis workshop was organized in the framework of WG2\, by dr. Jeff Kettle\, dr. Reza Aghaei and colleagues of WG2\, on the topic of “New approaches for identifying and analysing failures in PV” on Tuesday 2 February 2021 from 9:00h till 12:30h CET. \nIn this online workshop\, we enjoyed several presentations from world leading outstanding PV experts. The main aim of this workshop was to present the recent development and trends in lifetime prediction\, degradation mechanism\, failure identification\, and analytical approaches for failure modes in PV systems\, modules\, and components\, according to the following summary: \nWG2report_10th Feb_Summary \nThe presentations can be accessed by means of the following links : \nIntroduction to WG2 and workshop\, by Mohammadreza Aghaei\, Eindhoven University of Technology (TU/e) and Jeff Kettle\, University of Glasgow\nWorkshop introduction \nLifetime prediction: when is it useful and when is it a distraction\, by Sarah Kurtz\, University of California Merced\nSarah Kurtz_Lifetime Prediction of PV Modules – When is it Useful and When is it a Distraction \nOutdoor inspection of PV modules using drone-based electroluminescence imaging\, by Gisele Alves dos Reis Benatto\, Technical University of Denmark (DTU)\nG.A. Benatto – Outdoor inspection of PV modules using drone-based electroluminescence imaging.pdf \nCombined-accelerated stress testing of PV modules and materials\, by Michael Owen Bellini\, National Renewable Energy Laboratory (NREL)\nM.Bellini_Combined-Accelerated Stress Testing of PV Modules and Materials \nDegradation mechanism of CIGS devices\, by Mirjam Theelen\, TNO\, Solliance\nM.Theelen_Degradation Mechanisms in CIGS devices \nAssessing end-of-life failure modes in PV modules\, by Andrew Fairbrother\, École polytechnique fédérale de Lausanne (EPFL)\nA.Fairbrother_Assessing end-of-life failures \nWorkshop summary and closing\, by Mohammadreza Aghaei\, Eindhoven University of Technology (TU/e) and Jeff Kettle\, University of Glasgow\nWorkshop closing \nFor questions about this workshop\, please contact WG2 Leaders dr. Jeff Kettle and dr. Reza Aghaei by this email address: Jeff.Kettle@glasgow.ac.uk \n 
URL:https://www.pearlpv-cost.eu/event/online-workshop-wg2-new-approaches-for-identifying-and-analysing-failures-in-pv/
LOCATION:Zoom link\, Newcastle upon Tyne\, United Kingdom
END:VEVENT
END:VCALENDAR