BEGIN:VCALENDAR
VERSION:2.0
PRODID:-//PEARL PV - ECPv6.15.20//NONSGML v1.0//EN
CALSCALE:GREGORIAN
METHOD:PUBLISH
X-ORIGINAL-URL:https://www.pearlpv-cost.eu
X-WR-CALDESC:Events for PEARL PV
REFRESH-INTERVAL;VALUE=DURATION:PT1H
X-Robots-Tag:noindex
X-PUBLISHED-TTL:PT1H
BEGIN:VTIMEZONE
TZID:Europe/Amsterdam
BEGIN:DAYLIGHT
TZOFFSETFROM:+0100
TZOFFSETTO:+0200
TZNAME:CEST
DTSTART:20200329T010000
END:DAYLIGHT
BEGIN:STANDARD
TZOFFSETFROM:+0200
TZOFFSETTO:+0100
TZNAME:CET
DTSTART:20201025T010000
END:STANDARD
BEGIN:DAYLIGHT
TZOFFSETFROM:+0100
TZOFFSETTO:+0200
TZNAME:CEST
DTSTART:20210328T010000
END:DAYLIGHT
BEGIN:STANDARD
TZOFFSETFROM:+0200
TZOFFSETTO:+0100
TZNAME:CET
DTSTART:20211031T010000
END:STANDARD
BEGIN:DAYLIGHT
TZOFFSETFROM:+0100
TZOFFSETTO:+0200
TZNAME:CEST
DTSTART:20220327T010000
END:DAYLIGHT
BEGIN:STANDARD
TZOFFSETFROM:+0200
TZOFFSETTO:+0100
TZNAME:CET
DTSTART:20221030T010000
END:STANDARD
BEGIN:DAYLIGHT
TZOFFSETFROM:+0100
TZOFFSETTO:+0200
TZNAME:CEST
DTSTART:20230326T010000
END:DAYLIGHT
BEGIN:STANDARD
TZOFFSETFROM:+0200
TZOFFSETTO:+0100
TZNAME:CET
DTSTART:20231029T010000
END:STANDARD
END:VTIMEZONE
BEGIN:VEVENT
DTSTART;TZID=Europe/Amsterdam:20211215T103000
DTEND;TZID=Europe/Amsterdam:20211215T133000
DTSTAMP:20260425T173454
CREATED:20211123T171022Z
LAST-MODIFIED:20220110T114514Z
UID:1711-1639564200-1639575000@www.pearlpv-cost.eu
SUMMARY:Online PEARL PV Workshop WG2: Early Career Forum on Photovoltaic Module and System Reliability
DESCRIPTION:This will be a PEARL PV workshop in a series of 5\, to be held in the winter of 2021-2022. This workshop will be organized in the framework of WG2 on Reliability and Durability of PV of COST Action PEARL PV by Dr. Jeff Kettle of James Watt School of Engineering\, University of Glasgow\, Scotland\, UK\, and other colleagues\, on the topic of “Early Career Forum on Photovoltaic Module and System Reliability” on Wednesday 15 December 2021 from 9:30h till 12:30h CET. \nShort description of the program:\nThis online workshop is focused on PV system and module durability and brings together leading early career researchers from round Europe. In this online event\, we will hear speakers involved in failure analysis\, reliability testing\, non-destructive testing and reliability challenges in new applications of PV. \nThe final program of this online workshop is available here: COSTActionPearlPV_WG2-OnlineWorkshop 15122021 \nRegistration will take place by e-COST after which a meeting link will be supplied to registered participants shortly before the event will take place. \n  \nIf you are not a member yet of COST Action PEARL PV\, then please contact the chair or co-chairs of this event to indicate your interest in participation. Subsequently you will be registered in e-COST. \nChair of this online workshop:\nDr. Jeff Kettle of James Watt School of Engineering\, University of Glasgow\, Scotland\, UK \, e-mail: jeff.kettle@glasgow.ac.uk \nCo-Chairs:\nDr. Mohammadreza Aghaei\, Norwegian University of Science and Technology\, Norway
URL:https://www.pearlpv-cost.eu/event/online-workshop-wg4-title/
LOCATION:Zoom link by James Watt School of Engineering\, University of Glasgow\, Scotland\, UK\, Glasgow\, United Kingdom
ORGANIZER;CN="James Watt School of Engineering%2C University of Glasgow%2C UK":MAILTO:jeff.kettle@glasgow.ac.uk
END:VEVENT
BEGIN:VEVENT
DTSTART;TZID=Europe/Amsterdam:20220119T130000
DTEND;TZID=Europe/Amsterdam:20220119T170000
DTSTAMP:20260425T173454
CREATED:20211123T171441Z
LAST-MODIFIED:20220209T114935Z
UID:1717-1642597200-1642611600@www.pearlpv-cost.eu
SUMMARY:Online PEARL PV Workshop WG4: Photovoltaic Systems in the Built Environment
DESCRIPTION:This will be a PEARL PV workshop in a series of 5\, to be held in the winter of 2021-2022. This workshop will be organized in the framework of WG4 on PV in the Built Environment of COST Action PEARL PV by dr. Bogdan-Gabriel Burduhos (Transilvania University of Brasov\, Romania) and other colleagues\, on Wednesday 19 January 2022 from 12:00h till 16:00h CET. \nThe final program of this online workshop is available here: COST Action PEARL PV WG4 Workshop – 19012022 – Photovoltaic systems in the built environment – finalprogram \nSome of the presentations are available below\, please click on the blue titles to download them. \n\n\n\nTime\nItem/Title\nPresenter\n\n\n12:00\nIntroduction of WG4 and opening of the workshop\nBogdan-Gabriel Burduhos \n(Transilvania Univ. of Brașov\, RO)\n\n\n12:10\nUrban solar potential assessment for onboard solar in electric vehicles\nDavid Pera \n(University of Lisbon\, PT)\n\n\n12:30\nInnovative microgrid control based on 1s-resolution PV information\nRadu Plămânescu \n(Politehnica University of Bucharest\, RO)\n\n\n12:50\nOutdoor performance analysis of five photovoltaic modules of different technologies in Palaiseau\, France\nMoira I. Torres Aguilar \n(École Polytechnique\, FR)\n\n\n13:10\nSolar tracking systems for strings of photovoltaic modules\nMacedon-Dumitru Moldovan \n(Transilvania Univ. of Brașov\, RO)\n\n\n13:30\nSolar energy in Nordic built environments: Opportunities\, challenges and barriers\nGabriele Lobacarro \n(Norwegian University of Science and Technology\, NO)\n\n\n—————————-Break—————————–\n\n\n14:10\nApplication of thin-film Cu(In\,Ga)Se2 modules in PV roads. Feasibility testing and pilot production within Rolling Solar\nAldo Kingma \n(TNO Innovation for Life\, NL)\n\n\n14:30\nEstimating clear-sky PV electricity production without exogenous data\nStefani Peratikou \n(Cyprus University of Technology\, CY)\n\n\n14:50\nElectricity-powered charging stations with renewable energy\nFilip Cârlea \n(Center for the Promotion of Renewable Energy and Energy Efficiency\, RO)\n\n\n15:10\nEffect of the environment on the PV performance\nJoão-Gabriel Bessa \n(University of Jaén\, ES)\n\n\n15:30\nTBC\nRobert Blaga \n(West University of Timisoara\, RO)\n\n\n15:50\nSummary and closing\nBogdan-Gabriel Burduhos \n(Transilvania Univ. of Brașov\, RO)\n\n\n\n  \nRegistration will take place by e-COST after which the event will take place the BBB platform. \nIf you are not a member yet of COST Action PEARL PV\, then please contact the chair of this event to indicate your interest in participation. Subsequently you will be registered in e-COST. \nChair of this online workshop:\nDr. Bogdan Gabriel Burduhos\, Transilvania University of Brasov\, Romania\, e-mail: bogdan.burduhos@unitbv.ro
URL:https://www.pearlpv-cost.eu/event/online-pearl-pv-workshop-wg2-title/
LOCATION:Transilvania University of Brașov\, str. Institutului no. 10\, Brașov\, 500484\, Romania
END:VEVENT
BEGIN:VEVENT
DTSTART;TZID=Europe/Amsterdam:20220222T110000
DTEND;TZID=Europe/Amsterdam:20220222T143000
DTSTAMP:20260425T173454
CREATED:20211123T171732Z
LAST-MODIFIED:20220220T115408Z
UID:1720-1645527600-1645540200@www.pearlpv-cost.eu
SUMMARY:Online PEARL PV Workshop WG3: Modelling of PV Potential and Performance
DESCRIPTION:This will be a PEARL PV workshop in a series of 5\, to be held in the winter of 2021-2022. This workshop will be organized in the framework of WG3 on PV Simulation of COST Action PEARL PV by Prof.dr. Nicola Pearsall (Northumbria University\, UK)\, Prof. dr. João Serra (University of Lisbon\, Portugal)\, and other colleagues\, on the topic of “Modelling of PV Potential and Performance” on 22 February 2022 from 10:00h till 13:30h CET. \nThis on-line meeting will focus on the work of early career researchers over a range of modelling approaches and applications – from assessment of PV potential to understanding PV performance in field. \nThe final program of this online workshop is available here: WG3 online workshop programme Feb 2022 \nRegistration will take place by e-COST after which a Zoom link will be supplied to registered participants shortly before the event will take place: <Zoom link will soon be shown here>. \nIf you are not a member yet of COST Action PEARL PV\, then please contact the chair or co-chairs of this event to indicate your interest in participation. Subsequently you will be registered in e-COST. \nChair of this online workshop:\nProf.dr. Nicola Pearsall (Northumbria University\, UK)\, e-mail: nicola.pearsall@northumbria.ac.uk \nCo-Chairs:\nProf. dr. João Serra (University of Lisbon\, Portugal)\, e-mail: jmserra@fc.ul.pt
URL:https://www.pearlpv-cost.eu/event/online-pearl-pv-workshop-wg3-title/
LOCATION:Zoom link\, Newcastle upon Tyne\, United Kingdom
END:VEVENT
BEGIN:VEVENT
DTSTART;TZID=Europe/Amsterdam:20220308T090000
DTEND;TZID=Europe/Amsterdam:20220311T235900
DTSTAMP:20260425T173454
CREATED:20211123T172124Z
LAST-MODIFIED:20220429T114909Z
UID:1726-1646730000-1647043140@www.pearlpv-cost.eu
SUMMARY:Training School on "Potential of monitoring tools and advanced operation and maintenance practice for security and predictability of PV performance"
DESCRIPTION:PEARL PV’s Training School on the Potential of monitoring tools and advanced operation and maintenance practice for security and predictability of PV performance \ntook place at the University of Twente\, Enschede\, The Netherlands\, from 08 to 11 March 2022. The intention was to discuss how the analysis of data on actual long-term monitored performance\, defects and failures in photovoltaic (PV) systems allows to quantitatively determine the absolute effects of nominal component characteristics\, key system design\, installation\, operation\, maintenance practices on efficiency\, reliability and durability of solar PV energy systems as well as their forecasting. The discussion also included the use of various (including future) products which will enable PV system owners (residential and utility-scale) to control the quality of their PV systems. In 3.5 days of expert lectures\, exercises and excursions\, trainees gained an understanding of the potential of monitoring tools and advanced operation and maintenance practice for security and predictability of PV performance. The participants learnt about monitoring tools\, defects and failures in PV systems and maintenance practice from PEARL PV Working Group members and external experts. \nTraining School Schedule: Please see here for the final schedule of this Training School: PEARL Training School4_Twente 2022_Schedule of Events 07032022 \nAll presentations of the Training School can be downloaded here: AllPresentationsPEARLPVTrainingSchoolMarch2022 \nParticipants: PhD candidates\, post-doctoral researchers\, R&D personnel. Please note that the Training School will be offered to 40 participants at a maximum. Preference will be given to participants from COST Member Inclusiveness Target Countries (see https://www.cost.eu/who-we-are/members/ for information on ITCs). \nVenue: The training school will take place at the University of Twente in Enschede\, the Netherlands. Travel information and maps can be accessed here: Contact | Route & campus map | Home (EN) (utwente.nl)  Information about public transport in the Netherlands\, such as bus and train schedules\, can be accessed by this website: https://9292.nl/. While the dates of the Training School will be approaching\, details about the specific meeting space at University of Twente as well as routing on campus will be provided here: Training School – Route17022022. \nImportant note on COVID-19: At present\, the Training School has been categorized as an educational activity\, for which reason it will be held as a physical gathering with online access\, that is to say as a so-called hybrid-physical event. According to the recent announcement by the Government of the Netherlands about the covid-19 regulations\, on Friday 25 February many requirements will be lifted. For the full message\, which covers many topics please visit this website: 3 steps to reopen the Netherlands | News item | Government.nl  Coronavirus measures in brief are all available in English: Coronavirus measures in brief | Coronavirus COVID-19 | Government.nl\nFurthermore the situation regarding COVID-19 in the Netherlands is reported on a daily basis on this website: Coronavirus Dashboard | COVID-19 | Government.nl \nOfficial invitation required: As usual\, but in particular\, in this period with COVID-19\, this COST event can only be attended by means of an official invitation from the Grant Holder of this Action. Trainees appointed by a Dutch organization who register after 31 January 2022\, should contact Ms. Bianca Dibbelink at b.j.dibbelink@utwente.nl for late registration. Due to limited seats during the Training School\, your participation should be officially confirmed by her by email. \nImportant notice: Due to a recent change of the COST Regulations for Local Organizers of meetings and events\, the Local Organizer must offer lunches and dinners on the basis of the Daily Allowance which registered participants will receive\, meaning that participants will be kindly asked to purchase their own lunches and dinners. \nAccommodation information\nRecommended hotels on or near UT’s campus are U ParkHotel\, or De Broeierd. For UParkHotel it is recommended to mention that you attend this Training School in order to get access to a limited block of rooms. If you prefer to stay in the City of Enschede\, then InterCityHotel Enschede or The Residence are great options in the vicinity of public transport. There’s also plenty other accommodations in Enschede and/or Hengelo (OV). You can easily find and book your hotel through Booking.com \nContact persons regarding the content of the Training School:\nTraining School Manager: Prof. Dr. Aleksandra Krstic-Furundzic at akrstic@arh.bg.ac.rs\nTraining School Manager: Dr. Cedric Caruana at cedric.caruana@um.edu.mt\n \nLocal organizers:\nMs. Saskia Groenendijk / University of Twente at s.m.groenendijk@utwente.nl\nDr. Eli Shirazi / University of Twente at e.shirazi@utwente.nl\nProf. Dr. Wilfried Van Sark/ University of Utrecht\, Copernicus Institute at w.g.j.h.m.vansark@uu.nl\nProf. Dr. Jeffrey Kettle / University of Glasgow\, at jeff.kettle@glasgow.ac.uk\nProf. Dr. Angele Reinders / University of Twente at a.h.m.e.reinders@utwente.nl \nGrant Holder of this Action:\nPeter Jansen / University of Twente at p.jansen@utwente.nl. \n\nThe application procedure for external Trainees closed on 31 January 2022\, see below for more information. \nRegistration procedure for external Trainees:\nApplication opens: 20.12.2021\nApplication closes: 31.01.2022  \nApplication: Each applicant should send an email to David Moser (the Training School Selection Chair) at david.moser@eurac.edu with the following documents: \n\nA cover letter briefly (max 1 page) introducing the applicant name and affiliation\, previous PV projects\, involvement in activities relevant to the PEARL-PV project\, motivation and benefits for Training School participation\, possibility to disseminate Training School topics through education or awareness sessions within their own institute or countries.\nThe applicant’s CV (max 2 pages) including relevant publications.\n\nAND to register in e-COST https://e-services.cost.eu. This registration comprises setting up his/her e-COST profile and adding his/her bank details. \nSelection procedure of trainees: The Training School applications will be considered by a committee of PEARL PV Core Group members. The outcome of the evaluation will be notified by the Training School Manager. Thereafter the trainees will be officially invited to participate by a message sent by e-COST. \nAnnouncement of the selected trainees and their reimbursement: 20.01.2022 \nOfficial invitations by e-COST to participate in the Training School can be expected in the first two weeks of February 2022 \nThe applications will be evaluated based on the following criteria: \n\nMotivation of the applicant to participate to Training School\, Weight 40 %\nPlan to disseminate Training School topics\, Weight 40 %\nQuality of PV projects / experience\, involvement in PEARL PV activities\, Weight 20 %\n\nOnly applicants who have registered in e-COST\, including their bank details and who have submitted their CV and cover letter will be permitted to take part in the selection procedure. Regarding eligibility of trainees to receive reimbursement\, please carefully read the specific rules and regulations shown below. \nRegistration costs: Free of charge; the Training School Management will therefore apply a selection procedure of trainees. \nOther costs: Travel\, accommodation and insurances. Other costs apart from registration costs have to be paid by the trainee him/herself. \nReimbursement: 20 trainees from the total number of accepted applicants will be eligible to receive a reimbursement of 500 Euro per trainee. Note that trainees are only eligible for reimbursement if they have received (and accepted) the official invitation through e-COST (to be expected in February 2022). \nSpecific rules and regulations regarding Training Schools of a COST Action: \n1)  Trainees are entitled to receive a fixed grant as described in the COST Vademecum \n2)  Trainee Grants do not necessarily cover all expenses related to attending the Training School.  The Trainee Grant is a contribution to the overall travel\, accommodation and meal expenses of the Grantee. Different Grants amount can be attributed to each trainee. \n3)  Each trainee must register for an e-COST profile at https://e-services.cost.eu – each trainee must add their bank details to their e-COST profile. \n4)  Trainees eligible to be reimbursed:\nTrainees must be engaged in an official research programme as a PhD Student or postdoctoral fellow or can be employed by\, or affiliated to\, an institution\, organisation or legal entity which has within its remit a clear association with performing research. \nTrainees eligible for reimbursement:\n1)     Trainees from COST Full Members / COST Cooperating Member\, see here http://www.cost.eu/about_cost/cost_member_states\n2)     Trainees from Approved NNC Institutions.\n3)     Trainees from Approved European RTD Organisations. \n Trainees not eligible to be reimbursed:\n1)     Trainees from COST Partner Members.\n2)     Trainees from Approved IPC Institutions.\n3)     Trainees from Approved IO\, EU Commission\, Bodies\, Offices and Agencies.\n4)     Other Trainees not specifically mentioned as being eligible.
URL:https://www.pearlpv-cost.eu/event/training-school-on-potential-of-monitoring-tools-and-advanced-operation-and-maintenance-practice-for-security-and-predictability-of-pv-performance/
LOCATION:University of Twente\, Enschede\, the Netherlands\, Enschede\, Netherlands
END:VEVENT
BEGIN:VEVENT
DTSTART;TZID=Europe/Amsterdam:20220314T090000
DTEND;TZID=Europe/Amsterdam:20220316T235900
DTSTAMP:20260425T173454
CREATED:20211215T141348Z
LAST-MODIFIED:20220429T114932Z
UID:1779-1647248400-1647475140@www.pearlpv-cost.eu
SUMMARY:COST Action PEARL PV's Conference - Enabling the PV Terawatt Transition
DESCRIPTION:COST Action PEARL PV organized an international conference from 14 to 16 March 2022 at University of Twente\nin Enschede\, the Netherlands. The program of this conference is related to the mean aims of this COST Action:\nto improve the energy performance and reliability of photovoltaic (PV) solar energy systems in order to enable\nthe PV terawatt transition. This aim is embedded in research that is conducted in five Working Groups which will\norganize five sessions at the PEARL PV Conference on resp. (1) PV Monitoring\, (2) Reliability and Durability of PV\,\n(3) PV Simulation\, (4) PV in the Built Environment and (5) PV in Grids.\nThe final program of the conference is available here: \nFinalProgramPEARLPVConference14_15March2022-Final \nAll presentations that are available by 27 April 2022 can be downloaded here: \nAllPresentationsCOSTActionPEARLPVConferenceMarch2022 \nVenue of this event: U ParkHotel (and Waaier building of University of Twente) \n\nPlenary speakers\nDr. Gordana Kregar\, COST Association\, Brussels\, Belgium\nTitle: COST  PROGRAMME & CA 16235  – Overview\n\nDr. Gordana Kregar is working as a Science Officer in the COST Association for the last two years. She is responsible for 22 COST Actions covering multiple Science and Technology fields\, providing them constant support\, ensuring quality control and taking responsibility for the management of the relevant budget. As well\, one of the main responsibilities include implementation of proposal submission\, evaluation\, selection and approval procedure. Before joining COST\, she was employed at EUREKA Association. As the Call Coordinator of Eurostars Programme and the Coordinator of the Evaluation team\, she was leading all the activities related to two-step evaluation process and supervising human resources assigned to the call. She has a scientific background acquired in the field of the experimental atomic physics. Her experience as a researcher in physics comes from 7+ years working at the Institute of Physics\, Zagreb in two laboratories\, for laser spectroscopy and for laser cooling\, which has led to several internationally recognized articles and her Ph.D. thesis. \nDr. Teresa Barnes\, Materials Reliability and Durability Group\, NREL\, Denver\, USA\nTitle: Predicting and Extending PV Module Lifetime\n\nTeresa Barnes manages the Materials Reliability and Durability Group at NREL. She is also the Principal Investigator and Director of the DuraMAT Consortium for module materials research. Dr. Barnes’ group focuses on PV module and system reliability\, including accelerated test development\, materials and interface modeling\, degradation mechanisms\, field failure modes\, sustainability\, and materials science. Our group has worked with stakeholders throughout the PV value chain on the development of industry standards for reliability testing and energy yield.  We conduct application driven research on adhesion\, cell and module degradation\, mechanical damage\, material weathering\, and other topics. Teresa has worked in PV at NREL for 16 years on thin-film PV\, flexible devices\, and transparent contacts and started focusing on reliability in 2016. She is a Chemical Engineer with a PhD from the Colorado School of Mines and a BS from the University of Maryland. \nProf. dr. Monica Lira-Cantu\, Catalan Institute of Nanoscience and Nanotechnology ICN2\, Barcelona\, Spain\nTitle: Perovskite Solar Cell Stability\n\nMonica Lira-Cantu is the director of the Nanostructured Materials for Photovoltaic Energy Group (NMPE) at ICN2 (Barcelona\, Spain). Her research interests are the synthesis and application of nanostructured materials for next-generation solar cells: Dye sensitized\, Hybrid\, Organic and Perovskite Solar Cells. The NMPE group is focused on the synthesis of novel nanomaterials and the control of their optoelectronic properties through their manipulation at molecular level\, with the aim of developing highly stable and highly efficient perovskite solar cells. NMPE aims at the development of highly stable solar cells for industrial applications (e.g. building integration PV) and novel self-powered photovoltaic-based devices for Internet of things (IoT) applications (e.g. sensors\, wearables\, printed electronics). The group is internationally recognized for its implication in the enhancement of the operational stability of emerging photovoltaics.\nMonica Lira-Cantu has a Bachelor in Chemistry Science (Mexico) and obtained a Master and PhD in Materials Science (University of Barcelona). She worked at ExxonMobil Research & Engineering in New Jersey (USA) initiating a laboratory on energy related applications\, University of Oslo (Norway)\, Riso National Laboratory (Denmark)\, the Center for Advanced Science and Innovation (Japan) (2006) and she was also a visiting professor of EPFL (Lausanne\, Switzerland). She has more than 125 publications and a h = 48 (July 2021). \nProf. dr. Christophe Ballif\, Ecole Polytechnique Fédérale de Lausanne (EPFL) and CSEM\, Neuchâtel\, Switzerland\nTitle: Photovoltaics go fast: improved technologies and carbon footprint for a wider range of applications\n\nChristophe Ballif is the director of the Phototovoltaics and Thin Film Electronics Laboratory (PV-Lab) at the institute of microengineering (IMT) in Neuchâtel (part of the EPFL since 2009). The lab focus is on the science and technology of high efficiency heterojunction crystalline cells\, so-called passivating contacts for solar cells\, multi-junction solar cells include novel generation Perovskite on innovative optical high speed detector and on various macroelectronics application. It also deals with energy management with a focus on integration of solar electricity into the energy system. Since 2013\, Ballif is also the director of the CSEM PV-Center\, also located in Neuchâtel. The CSEM PV-Center is focusing more on industrialization and technology transfer in the field of solar energy\, including solar electricity management and storage. At the core of the CSEM PV-center activities lies several “pilot lines” for various kinds of solar cells manufacturing and a platform for developing “ideal packaging solutions and polymers” for PV modules. In addition\, joined facilities between CSEM and EPFL of over 800 m2 are available for modules manufacturing\, measuring and accelerated aging.  In 2016\, Christophe Ballif received the Becquerel prize for his contributions to the field of high efficiency photovoltaics. \nProf. dr. Jan Kleissl\, University of California\, San Diego\, USA.\nTitle: Solar Forecasting \n\nJan Kleissl is the Director of the UC San Diego Center for Energy Research and Professor in the Department of Mechanical and Aerospace Engineering at UC San Diego. He researches the interaction of weather with engineering systems in buildings\, solar power systems\, and the electric power grid. Kleissl’s solar variability models\, sky imager solar forecasting tools\, and numerical weather prediction solar forecasts have been commercialized or used operationally to advance solar power integration. Kleissl received an undergraduate degree from the University of Stuttgart and a PhD from the Johns Hopkins University\, both in environmental engineering with a focus in environmental fluid mechanics. Jan Kleissl has published over 100 papers in the top journals of solar power resources\, forecasting\, and integration. \n\nFull organizing committee\nDr. David Moser\, EURAC\, Italy\, Vice Chair of this Action\nDr. Jeff Kettle\, University of Glasgow\, UK\, WG2 Leader on Reliability and Durability of PV\nProf.dr. Nicola Pearsall\, Northumbria University\, UK\, WG3 Leader on PV Simulation\nDr. Bogdan Burduhos\, Transylvania University of Brasov\, Romania\, WG4 Leader on PV in the Built Environment\nDr. Jonathan Leloux\, Lucisun\, Belgium and Spain\, WG5 Leader on PV in Grids.\nProf.dr. Angèle Reinders\, University of Twente and Eindhoven University of Technology\, the Netherlands\, Chair of this Action\nProf.dr. Wilfried van Sark\, Utrecht University\, the Netherlands\, WG1 Leader on PV Monitoring \n\n  \nTravel information to University of Twente (UT) in Enschede\, the Netherlands\, can be accessed here: Contact | Route & campus map | Home (EN) (utwente.nl)
URL:https://www.pearlpv-cost.eu/event/cost-action-pearl-pvs-final-conference/
LOCATION:University of Twente\, Enschede\, the Netherlands\, Enschede\, Netherlands
END:VEVENT
END:VCALENDAR