BEGIN:VCALENDAR
VERSION:2.0
PRODID:-//PEARL PV - ECPv6.15.20//NONSGML v1.0//EN
CALSCALE:GREGORIAN
METHOD:PUBLISH
X-ORIGINAL-URL:https://www.pearlpv-cost.eu
X-WR-CALDESC:Events for PEARL PV
REFRESH-INTERVAL;VALUE=DURATION:PT1H
X-Robots-Tag:noindex
X-PUBLISHED-TTL:PT1H
BEGIN:VTIMEZONE
TZID:Europe/Amsterdam
BEGIN:DAYLIGHT
TZOFFSETFROM:+0100
TZOFFSETTO:+0200
TZNAME:CEST
DTSTART:20200329T010000
END:DAYLIGHT
BEGIN:STANDARD
TZOFFSETFROM:+0200
TZOFFSETTO:+0100
TZNAME:CET
DTSTART:20201025T010000
END:STANDARD
BEGIN:DAYLIGHT
TZOFFSETFROM:+0100
TZOFFSETTO:+0200
TZNAME:CEST
DTSTART:20210328T010000
END:DAYLIGHT
BEGIN:STANDARD
TZOFFSETFROM:+0200
TZOFFSETTO:+0100
TZNAME:CET
DTSTART:20211031T010000
END:STANDARD
BEGIN:DAYLIGHT
TZOFFSETFROM:+0100
TZOFFSETTO:+0200
TZNAME:CEST
DTSTART:20220327T010000
END:DAYLIGHT
BEGIN:STANDARD
TZOFFSETFROM:+0200
TZOFFSETTO:+0100
TZNAME:CET
DTSTART:20221030T010000
END:STANDARD
END:VTIMEZONE
BEGIN:VEVENT
DTSTART;TZID=Europe/Amsterdam:20211202T110000
DTEND;TZID=Europe/Amsterdam:20211202T140000
DTSTAMP:20260426T033823
CREATED:20211115T093146Z
LAST-MODIFIED:20211213T080835Z
UID:1695-1638442800-1638453600@www.pearlpv-cost.eu
SUMMARY:Online PEARL PV Workshop WG1: PV Data Management and the PEARL Data Challenge
DESCRIPTION:This is the webpage of the first online PEARL PV workshop in a series of 5\, to were held in the winter of 2021-2022\, which brought together researchers to discuss the next challenges in data management of PV monitoring data and PV performance assessments. \nThis workshop has been organized in the framework of WG1 of COST Action PEARL PV by dr. Atse Louwen (EURAC\, Italy)\, dr. Carolin Ulbrich (Helmholtz-Zentrum Berlin\, Germany)\, dr. Eli Shirazi  (University of Twente\, the Netherlands) and other colleagues\, on the topic of “PV Data Management and the PEARL Data Challenge” on Thursday 2 December 2021 from 10:00h till 13:00h CET. \nThe full program of this online workshop is available here: PearlPV_CKAN_workshop_02.12.2021 Final \nPresentations can be downloaded below:\nData analysis of big data of PV systems using the CKAN database of PEARL PV\nby Prof. Dr. Ralph Gottschalg\nPearlPV_Gottschalg_PVDigital_final \nThe importance of shared and synthetic datasets\nby Prof. Dr. Angèle Reinders (University of Twente / Eindhoven University of Technology)\nPresentationReindersWG1Workshop02122021The importance of shared and synthetic datasets_30112021 \nUse of PEARL PV platform to Share Spectral data\nby Basant Raj Paudyal (University of Agder)\nPEARL PV Workshop_2 December_Basant_PDF \nPerformance Analysis and Degradation of a Large Fleet of PV Systems\nby Dr. Sascha Lindig (Eurac Research)\nPearlDB_Performance_Lindig \nHow to use the Pearl PV CKAN database\nDr. Atse Louwen (Eurac Research)\nPearlPV_02.12.2021_Atse_PDF \nAnnouncement of data challenges using the Pearl PV CKAN database + session wrap-up\nDr. Eli Shirazi (University of Twente)\nDr. Atse Louwen (Eurac Research\nPearlPV_02.12.2021_Atse_PDF \nThe PEARL Data Challenge Descriptions \nChallenge 1: Artificially Faulty Solar PV Datasets for Development and Benchmarking of Fault Detection Algorithms\, contact person: Dr. Atse Louwen (atse.louwen@eurac.edu)\nPearlPV_CKAN_challenge_FaultDetection_PDF \nChallenge 2: Comparison of PV performance across Europe\, contact person: Dr. Eli Shirazi (e.shirazi@utwente.nl)\nPearlPV CKAN challenge_ PV Performance_PDF \nTimeline for both challenges:\n• Participants express their interest to the contact person of the challenge (deadline: 23 Dec 2021)\n• Participants submit/upload their datasets in the CKAN data server (deadline: 15 Jan 2022)\n• Participants develop\, train\, test and validate their algorithms\n• Participants submit results to the contact person of the challenge (deadline: 28 Feb 2022) \nCKAN Data Server \nFor questions about the use of this data server please contact the admins: (1) Dr. Eli Shirazi (e.shirazi@utwente.nl) and (2) Dr. Atse Louwen (atse.louwen@eurac.edu) \nCKAN data server access by Welcome – Pearl PV CKAN Repository (pearlpv-cost.eu)\nNDA for this CKAN data server: Non-Disclosure and Data Sharing Declaration PEARL PV (hardcopy version) (13-02-19) \n  \nChair of this online workshop:\nDr. Atse Louwen\, Eurac Research\, Institute for Renewable Energy\, Italy\, e-mail: Atse.Louwen@eurac.edu \nCo-Chairs:\nDr. Carolin Ulbrich\, Helmholtz-Zentrum Berlin\, Germany\, e-mail: carolin.ulbrich@helmholtz-berlin.de\nDr. Eli Shirazi\, University of Twente\, the Netherlands\, e-mail: e.shirazi@utwente.nl\nProf. Angèle Reinders\, University of Twente/ Eindhoven University of Technology\, the Netherlands\, e-mail: a.h.m.e.reinders@utwente.nl
URL:https://www.pearlpv-cost.eu/event/online-pearl-pv-workshop-data-management-and-data-challenge/
LOCATION:Zoom link\, Newcastle upon Tyne\, United Kingdom
ORGANIZER;CN="EURAC%2C Italy%2C Helmholtz-Zentrum Berlin%2C Germany%2C University of Twente%2C the Netherlands":MAILTO:Atse.Louwen@eurac.edu
END:VEVENT
END:VCALENDAR