BEGIN:VCALENDAR
VERSION:2.0
PRODID:-//PEARL PV - ECPv6.15.20//NONSGML v1.0//EN
CALSCALE:GREGORIAN
METHOD:PUBLISH
X-WR-CALNAME:PEARL PV
X-ORIGINAL-URL:https://www.pearlpv-cost.eu
X-WR-CALDESC:Events for PEARL PV
REFRESH-INTERVAL;VALUE=DURATION:PT1H
X-Robots-Tag:noindex
X-PUBLISHED-TTL:PT1H
BEGIN:VTIMEZONE
TZID:Europe/Amsterdam
BEGIN:DAYLIGHT
TZOFFSETFROM:+0100
TZOFFSETTO:+0200
TZNAME:CEST
DTSTART:20190331T010000
END:DAYLIGHT
BEGIN:STANDARD
TZOFFSETFROM:+0200
TZOFFSETTO:+0100
TZNAME:CET
DTSTART:20191027T010000
END:STANDARD
BEGIN:DAYLIGHT
TZOFFSETFROM:+0100
TZOFFSETTO:+0200
TZNAME:CEST
DTSTART:20200329T010000
END:DAYLIGHT
BEGIN:STANDARD
TZOFFSETFROM:+0200
TZOFFSETTO:+0100
TZNAME:CET
DTSTART:20201025T010000
END:STANDARD
BEGIN:DAYLIGHT
TZOFFSETFROM:+0100
TZOFFSETTO:+0200
TZNAME:CEST
DTSTART:20210328T010000
END:DAYLIGHT
BEGIN:STANDARD
TZOFFSETFROM:+0200
TZOFFSETTO:+0100
TZNAME:CET
DTSTART:20211031T010000
END:STANDARD
END:VTIMEZONE
BEGIN:VEVENT
DTSTART;TZID=Europe/Amsterdam:20201103T100000
DTEND;TZID=Europe/Amsterdam:20201103T133000
DTSTAMP:20260425T135852
CREATED:20201015T100151Z
LAST-MODIFIED:20201216T125557Z
UID:1362-1604397600-1604410200@www.pearlpv-cost.eu
SUMMARY:Online Workshop WG1: Data sharing for trans-European PV performance analyses
DESCRIPTION:This will be the first online PEARL PV workshop in a series of 6 in order to comply with the meeting guidelines in the covid-19 situation. \nThis workshop has been organized in the framework of WG1\, by prof. Wilfried van Sark\, dr. Cihan Gerçek and Nikolina Shutinoska\,\non the topic of “Data sharing for trans-European PV performance analyses”\non Tuesday 3 November from 9:00h till 12:30h\, according to the following program: \nCostActionPEARLPV_OnlineWorkshop_PVPerformance_03112020_Final \nThe program was provided by a Zoom link\, the research presentations are available below: \nAndrea Livera\, University of Cyprus\, Data processing and quality verification: Livera-PEARLPVWG1 \nSascha Lindig\, Eurac\, Performance loss rate and data requirements SLindig_PLR_PearlPV_DB_publish \nThe summary of this workshop can be found here. \nFor questions about this workshop\, please contact WG1 Leader prof. Wilfried van Sark by this email address: W.G.J.H.M.vanSark-at-uu.nl \nThe remaining 5 online workshops will take place on the following dates on topics which will be communicated later:\nTuesday 1 December 2020 Webinar – WG3\nTuesday 5 January 2021 Webinar –Topic: tbc\nTuesday 2 February 2021 Webinar – WG2\nTuesday 2 March 2021\, Webinar – WG4\nTuesday 6 April 2021\, Webinar –Topic: tbc
URL:https://www.pearlpv-cost.eu/event/online-workshop-wg1-data-sharing-for-trans-european-pv-performance-analyses/
LOCATION:Zoom link\, Newcastle upon Tyne\, United Kingdom
END:VEVENT
END:VCALENDAR